Workbook

Sheet Items
A1: Item | B1: SKU | C1: Barcode | D1: Unit | E1: Opening stock | F1: Stock in | G1: Stock out | H1: Quantity | I1: Low-stock threshold | J1: Reorder | K1: Cost | L1: Stock value | M1: Notes
A2: Beeswax candles | B2: CANDLE-001 | C2: CS-CANDLE-001 | D2: each | E2: 24 | F2: =IF($A2="","",SUMIFS(Movements!$D$2:$D$5001,Movements!$B$2:$B$5001,$A2,Movements!$C$2:$C$5001,"In")) -> 12 | G2: =IF($A2="","",SUMIFS(Movements!$D$2:$D$5001,Movements!$B$2:$B$5001,$A2,Movements!$C$2:$C$5001,"Out")) -> 15 | H2: =IF($A2="","",E2+F2-G2) -> 21 | I2: 10 | J2: =IF(OR($A2="",I2=""),"",IF(H2<=I2,"Reorder","")) | K2: 4.2 | L2: =IF(OR($A2="",K2=""),"",H2*K2) -> 88.2 | M2: Studio shelf
A3: Packing boxes | B3: BOX-001 | C3: CS-BOX-001 | D3: each | E3: 40 | F3: =IF($A3="","",SUMIFS(Movements!$D$2:$D$5001,Movements!$B$2:$B$5001,$A3,Movements!$C$2:$C$5001,"In")) -> 0 | G3: =IF($A3="","",SUMIFS(Movements!$D$2:$D$5001,Movements!$B$2:$B$5001,$A3,Movements!$C$2:$C$5001,"Out")) -> 32 | H3: =IF($A3="","",E3+F3-G3) -> 8 | I3: 10 | J3: =IF(OR($A3="",I3=""),"",IF(H3<=I3,"Reorder","")) -> Reorder | K3: 0.65 | L3: =IF(OR($A3="",K3=""),"",H3*K3) -> 5.2
A4: Cotton ribbon | B4: RIBBON-001 | C4: CS-RIBBON-001 | D4: m | E4: 12 | F4: =IF($A4="","",SUMIFS(Movements!$D$2:$D$5001,Movements!$B$2:$B$5001,$A4,Movements!$C$2:$C$5001,"In")) -> 25 | G4: =IF($A4="","",SUMIFS(Movements!$D$2:$D$5001,Movements!$B$2:$B$5001,$A4,Movements!$C$2:$C$5001,"Out")) -> 6 | H4: =IF($A4="","",E4+F4-G4) -> 31 | I4: 5 | J4: =IF(OR($A4="",I4=""),"",IF(H4<=I4,"Reorder","")) | K4: 0.3 | L4: =IF(OR($A4="",K4=""),"",H4*K4) -> 9.3 | M4: Sold by the metre
F5: =IF($A5="","",SUMIFS(Movements!$D$2:$D$5001,Movements!$B$2:$B$5001,$A5,Movements!$C$2:$C$5001,"In")) | G5: =IF($A5="","",SUMIFS(Movements!$D$2:$D$5001,Movements!$B$2:$B$5001,$A5,Movements!$C$2:$C$5001,"Out")) | H5: =IF($A5="","",E5+F5-G5) | J5: =IF(OR($A5="",I5=""),"",IF(H5<=I5,"Reorder","")) | L5: =IF(OR($A5="",K5=""),"",H5*K5)
F6: =IF($A6="","",SUMIFS(Movements!$D$2:$D$5001,Movements!$B$2:$B$5001,$A6,Movements!$C$2:$C$5001,"In")) | G6: =IF($A6="","",SUMIFS(Movements!$D$2:$D$5001,Movements!$B$2:$B$5001,$A6,Movements!$C$2:$C$5001,"Out")) | H6: =IF($A6="","",E6+F6-G6) | J6: =IF(OR($A6="",I6=""),"",IF(H6<=I6,"Reorder","")) | L6: =IF(OR($A6="",K6=""),"",H6*K6)
F7: =IF($A7="","",SUMIFS(Movements!$D$2:$D$5001,Movements!$B$2:$B$5001,$A7,Movements!$C$2:$C$5001,"In")) | G7: =IF($A7="","",SUMIFS(Movements!$D$2:$D$5001,Movements!$B$2:$B$5001,$A7,Movements!$C$2:$C$5001,"Out")) | H7: =IF($A7="","",E7+F7-G7) | J7: =IF(OR($A7="",I7=""),"",IF(H7<=I7,"Reorder","")) | L7: =IF(OR($A7="",K7=""),"",H7*K7)
F8: =IF($A8="","",SUMIFS(Movements!$D$2:$D$5001,Movements!$B$2:$B$5001,$A8,Movements!$C$2:$C$5001,"In")) | G8: =IF($A8="","",SUMIFS(Movements!$D$2:$D$5001,Movements!$B$2:$B$5001,$A8,Movements!$C$2:$C$5001,"Out")) | H8: =IF($A8="","",E8+F8-G8) | J8: =IF(OR($A8="",I8=""),"",IF(H8<=I8,"Reorder","")) | L8: =IF(OR($A8="",K8=""),"",H8*K8)
F9: =IF($A9="","",SUMIFS(Movements!$D$2:$D$5001,Movements!$B$2:$B$5001,$A9,Movements!$C$2:$C$5001,"In")) | G9: =IF($A9="","",SUMIFS(Movements!$D$2:$D$5001,Movements!$B$2:$B$5001,$A9,Movements!$C$2:$C$5001,"Out")) | H9: =IF($A9="","",E9+F9-G9) | J9: =IF(OR($A9="",I9=""),"",IF(H9<=I9,"Reorder","")) | L9: =IF(OR($A9="",K9=""),"",H9*K9)
F10: =IF($A10="","",SUMIFS(Movements!$D$2:$D$5001,Movements!$B$2:$B$5001,$A10,Movements!$C$2:$C$5001,"In")) | G10: =IF($A10="","",SUMIFS(Movements!$D$2:$D$5001,Movements!$B$2:$B$5001,$A10,Movements!$C$2:$C$5001,"Out")) | H10: =IF($A10="","",E10+F10-G10) | J10: =IF(OR($A10="",I10=""),"",IF(H10<=I10,"Reorder","")) | L10: =IF(OR($A10="",K10=""),"",H10*K10)
F11: =IF($A11="","",SUMIFS(Movements!$D$2:$D$5001,Movements!$B$2:$B$5001,$A11,Movements!$C$2:$C$5001,"In")) | G11: =IF($A11="","",SUMIFS(Movements!$D$2:$D$5001,Movements!$B$2:$B$5001,$A11,Movements!$C$2:$C$5001,"Out")) | H11: =IF($A11="","",E11+F11-G11) | J11: =IF(OR($A11="",I11=""),"",IF(H11<=I11,"Reorder","")) | L11: =IF(OR($A11="",K11=""),"",H11*K11)
F12: =IF($A12="","",SUMIFS(Movements!$D$2:$D$5001,Movements!$B$2:$B$5001,$A12,Movements!$C$2:$C$5001,"In")) | G12: =IF($A12="","",SUMIFS(Movements!$D$2:$D$5001,Movements!$B$2:$B$5001,$A12,Movements!$C$2:$C$5001,"Out")) | H12: =IF($A12="","",E12+F12-G12) | J12: =IF(OR($A12="",I12=""),"",IF(H12<=I12,"Reorder","")) | L12: =IF(OR($A12="",K12=""),"",H12*K12)
F13: =IF($A13="","",SUMIFS(Movements!$D$2:$D$5001,Movements!$B$2:$B$5001,$A13,Movements!$C$2:$C$5001,"In")) | G13: =IF($A13="","",SUMIFS(Movements!$D$2:$D$5001,Movements!$B$2:$B$5001,$A13,Movements!$C$2:$C$5001,"Out")) | H13: =IF($A13="","",E13+F13-G13) | J13: =IF(OR($A13="",I13=""),"",IF(H13<=I13,"Reorder","")) | L13: =IF(OR($A13="",K13=""),"",H13*K13)
F14: =IF($A14="","",SUMIFS(Movements!$D$2:$D$5001,Movements!$B$2:$B$5001,$A14,Movements!$C$2:$C$5001,"In")) | G14: =IF($A14="","",SUMIFS(Movements!$D$2:$D$5001,Movements!$B$2:$B$5001,$A14,Movements!$C$2:$C$5001,"Out")) | H14: =IF($A14="","",E14+F14-G14) | J14: =IF(OR($A14="",I14=""),"",IF(H14<=I14,"Reorder","")) | L14: =IF(OR($A14="",K14=""),"",H14*K14)
F15: =IF($A15="","",SUMIFS(Movements!$D$2:$D$5001,Movements!$B$2:$B$5001,$A15,Movements!$C$2:$C$5001,"In")) | G15: =IF($A15="","",SUMIFS(Movements!$D$2:$D$5001,Movements!$B$2:$B$5001,$A15,Movements!$C$2:$C$5001,"Out")) | H15: =IF($A15="","",E15+F15-G15) | J15: =IF(OR($A15="",I15=""),"",IF(H15<=I15,"Reorder","")) | L15: =IF(OR($A15="",K15=""),"",H15*K15)
F16: =IF($A16="","",SUMIFS(Movements!$D$2:$D$5001,Movements!$B$2:$B$5001,$A16,Movements!$C$2:$C$5001,"In")) | G16: =IF($A16="","",SUMIFS(Movements!$D$2:$D$5001,Movements!$B$2:$B$5001,$A16,Movements!$C$2:$C$5001,"Out")) | H16: =IF($A16="","",E16+F16-G16) | J16: =IF(OR($A16="",I16=""),"",IF(H16<=I16,"Reorder","")) | L16: =IF(OR($A16="",K16=""),"",H16*K16)
... F501: =IF($A501="","",SUMIFS(Movements!$D$2:$D$5001,Movements!$B$2:$B$5001,$A501,Movements!$C$2:$C$5001,"In")) | G501: =IF($A501="","",SUMIFS(Movements!$D$2:$D$5001,Movements!$B$2:$B$5001,$A501,Movements!$C$2:$C$5001,"Out")) | H501: =IF($A501="","",E501+F501-G501) | J501: =IF(OR($A501="",I501=""),"",IF(H501<=I501,"Reorder","")) | L501: =IF(OR($A501="",K501=""),"",H501*K501)

Sheet Movements
A1: Date | B1: Item | C1: In or out | D1: Quantity | E1: Note | F1: =IF(COUNTA($B$2:$B$5001)>=4750,"Nearly full: "&COUNTA($B$2:$B$5001)&" of 5,000 rows. See How to use.","Rows used: "&COUNTA($B$2:$B$5001)&" of 5,000") -> Rows used: 5 of 5,000
A2: 46296 | B2: Beeswax candles | C2: In | D2: 12 | E2: Delivery
A3: 46298 | B3: Beeswax candles | C3: Out | D3: 15 | E3: Market day
A4: 46298 | B4: Packing boxes | C4: Out | D4: 32 | E4: Orders sent
A5: 46300 | B5: Cotton ribbon | C5: In | D5: 25 | E5: Delivery
A6: 46301 | B6: Cotton ribbon | C6: Out | D6: 6 | E6: Gift wrapping

Sheet How to use
A1: Countstead inventory template
A2: Keep one row per item on the Items sheet and one row per delivery, sale or other change on the Movements sheet. Shaded columns are formulas: leave them alone.
A3: Beeswax candles, Packing boxes and Cotton ribbon are examples. Before you add your own items, clear the white cells in their rows on Items, so the formulas stay, and delete their five rows on Movements.
A4: Items
A5: Item: the name you use for it. Every row needs one.
A6: Opening stock: what you had when you started this sheet.
A7: Stock in and Stock out: added up from the Movements sheet.
A8: Quantity: opening stock plus stock in, minus stock out.
A9: Low-stock threshold: when Quantity falls to this number or below, Reorder appears in the next column.
A10: Cost and Stock value: optional. Stock value is Quantity multiplied by the cost of one unit.
A11: Movements
A12: Enter the date, choose the item, choose In or Out, and enter the quantity as a positive number. Spell the item exactly as on the Items sheet, or it won't be counted.
... A19: Quantity becomes each item's opening quantity in the app. The Movements sheet is not imported. Steps: countstead.com/inventory-spreadsheet-template/
